Workbook

Sheet 源泉徴収簿
A1: 令和8年分 給与所得に対する源泉徴収簿（年末調整用）
A2: 黄色の欄に入力します。算出税額と年末調整の欄は自動で計算されます（甲欄・月額表、令和8年分）。
A3: 氏名 | E3: 税額表の区分 | F3: 甲
A5: 月区分 | B5: 支給月日 | C5: 総支給金額 | D5: 社会保険料等の控除額 | E5: 社会保険料等控除後の給与等の金額 | F5: 扶養親族等の数 | G5: 算出税額 | H5: 年末調整による過不足税額 | I5: 差引徴収税額
A6: 1月（給与） | E6: =IF(C6="","",C6-N(D6)) | G6: =IF(C6="","",IF(E6>=740000,ROUNDDOWN(INDEX(高額!$B$2:$I$10,MATCH(E6,高額!$A$2:$A$10,1),MIN(MAX(F6,0),7)+1)+(E6-INDEX(高額!$A$2:$A$10,MATCH(E6,高額!$A$2:$A$10,1)))*INDEX(高額!$J$2:$J$10,MATCH(E6,高額!$A$2:$A$10,1)),0),INDEX(月額表!$C$2:$J$233,MATCH(MAX(E6,0),月額表!$A$2:$A$233,1),MIN(MAX(F6,0),7)+1))) | I6: =IF(C6="","",N(G6)+N(H6))
A7: 2月（給与） | E7: =IF(C7="","",C7-N(D7)) | G7: =IF(C7="","",IF(E7>=740000,ROUNDDOWN(INDEX(高額!$B$2:$I$10,MATCH(E7,高額!$A$2:$A$10,1),MIN(MAX(F7,0),7)+1)+(E7-INDEX(高額!$A$2:$A$10,MATCH(E7,高額!$A$2:$A$10,1)))*INDEX(高額!$J$2:$J$10,MATCH(E7,高額!$A$2:$A$10,1)),0),INDEX(月額表!$C$2:$J$233,MATCH(MAX(E7,0),月額表!$A$2:$A$233,1),MIN(MAX(F7,0),7)+1))) | I7: =IF(C7="","",N(G7)+N(H7))
A8: 3月（給与） | E8: =IF(C8="","",C8-N(D8)) | G8: =IF(C8="","",IF(E8>=740000,ROUNDDOWN(INDEX(高額!$B$2:$I$10,MATCH(E8,高額!$A$2:$A$10,1),MIN(MAX(F8,0),7)+1)+(E8-INDEX(高額!$A$2:$A$10,MATCH(E8,高額!$A$2:$A$10,1)))*INDEX(高額!$J$2:$J$10,MATCH(E8,高額!$A$2:$A$10,1)),0),INDEX(月額表!$C$2:$J$233,MATCH(MAX(E8,0),月額表!$A$2:$A$233,1),MIN(MAX(F8,0),7)+1))) | I8: =IF(C8="","",N(G8)+N(H8))
A9: 4月（給与） | E9: =IF(C9="","",C9-N(D9)) | G9: =IF(C9="","",IF(E9>=740000,ROUNDDOWN(INDEX(高額!$B$2:$I$10,MATCH(E9,高額!$A$2:$A$10,1),MIN(MAX(F9,0),7)+1)+(E9-INDEX(高額!$A$2:$A$10,MATCH(E9,高額!$A$2:$A$10,1)))*INDEX(高額!$J$2:$J$10,MATCH(E9,高額!$A$2:$A$10,1)),0),INDEX(月額表!$C$2:$J$233,MATCH(MAX(E9,0),月額表!$A$2:$A$233,1),MIN(MAX(F9,0),7)+1))) | I9: =IF(C9="","",N(G9)+N(H9))
A10: 5月（給与） | E10: =IF(C10="","",C10-N(D10)) | G10: =IF(C10="","",IF(E10>=740000,ROUNDDOWN(INDEX(高額!$B$2:$I$10,MATCH(E10,高額!$A$2:$A$10,1),MIN(MAX(F10,0),7)+1)+(E10-INDEX(高額!$A$2:$A$10,MATCH(E10,高額!$A$2:$A$10,1)))*INDEX(高額!$J$2:$J$10,MATCH(E10,高額!$A$2:$A$10,1)),0),INDEX(月額表!$C$2:$J$233,MATCH(MAX(E10,0),月額表!$A$2:$A$233,1),MIN(MAX(F10,0),7)+1))) | I10: =IF(C10="","",N(G10)+N(H10))
A11: 6月（給与） | E11: =IF(C11="","",C11-N(D11)) | G11: =IF(C11="","",IF(E11>=740000,ROUNDDOWN(INDEX(高額!$B$2:$I$10,MATCH(E11,高額!$A$2:$A$10,1),MIN(MAX(F11,0),7)+1)+(E11-INDEX(高額!$A$2:$A$10,MATCH(E11,高額!$A$2:$A$10,1)))*INDEX(高額!$J$2:$J$10,MATCH(E11,高額!$A$2:$A$10,1)),0),INDEX(月額表!$C$2:$J$233,MATCH(MAX(E11,0),月額表!$A$2:$A$233,1),MIN(MAX(F11,0),7)+1))) | I11: =IF(C11="","",N(G11)+N(H11))
A12: 7月（給与） | E12: =IF(C12="","",C12-N(D12)) | G12: =IF(C12="","",IF(E12>=740000,ROUNDDOWN(INDEX(高額!$B$2:$I$10,MATCH(E12,高額!$A$2:$A$10,1),MIN(MAX(F12,0),7)+1)+(E12-INDEX(高額!$A$2:$A$10,MATCH(E12,高額!$A$2:$A$10,1)))*INDEX(高額!$J$2:$J$10,MATCH(E12,高額!$A$2:$A$10,1)),0),INDEX(月額表!$C$2:$J$233,MATCH(MAX(E12,0),月額表!$A$2:$A$233,1),MIN(MAX(F12,0),7)+1))) | I12: =IF(C12="","",N(G12)+N(H12))
A13: 8月（給与） | E13: =IF(C13="","",C13-N(D13)) | G13: =IF(C13="","",IF(E13>=740000,ROUNDDOWN(INDEX(高額!$B$2:$I$10,MATCH(E13,高額!$A$2:$A$10,1),MIN(MAX(F13,0),7)+1)+(E13-INDEX(高額!$A$2:$A$10,MATCH(E13,高額!$A$2:$A$10,1)))*INDEX(高額!$J$2:$J$10,MATCH(E13,高額!$A$2:$A$10,1)),0),INDEX(月額表!$C$2:$J$233,MATCH(MAX(E13,0),月額表!$A$2:$A$233,1),MIN(MAX(F13,0),7)+1))) | I13: =IF(C13="","",N(G13)+N(H13))
A14: 9月（給与） | E14: =IF(C14="","",C14-N(D14)) | G14: =IF(C14="","",IF(E14>=740000,ROUNDDOWN(INDEX(高額!$B$2:$I$10,MATCH(E14,高額!$A$2:$A$10,1),MIN(MAX(F14,0),7)+1)+(E14-INDEX(高額!$A$2:$A$10,MATCH(E14,高額!$A$2:$A$10,1)))*INDEX(高額!$J$2:$J$10,MATCH(E14,高額!$A$2:$A$10,1)),0),INDEX(月額表!$C$2:$J$233,MATCH(MAX(E14,0),月額表!$A$2:$A$233,1),MIN(MAX(F14,0),7)+1))) | I14: =IF(C14="","",N(G14)+N(H14))
A15: 10月（給与） | E15: =IF(C15="","",C15-N(D15)) | G15: =IF(C15="","",IF(E15>=740000,ROUNDDOWN(INDEX(高額!$B$2:$I$10,MATCH(E15,高額!$A$2:$A$10,1),MIN(MAX(F15,0),7)+1)+(E15-INDEX(高額!$A$2:$A$10,MATCH(E15,高額!$A$2:$A$10,1)))*INDEX(高額!$J$2:$J$10,MATCH(E15,高額!$A$2:$A$10,1)),0),INDEX(月額表!$C$2:$J$233,MATCH(MAX(E15,0),月額表!$A$2:$A$233,1),MIN(MAX(F15,0),7)+1))) | I15: =IF(C15="","",N(G15)+N(H15))
A16: 11月（給与） | E16: =IF(C16="","",C16-N(D16)) | G16: =IF(C16="","",IF(E16>=740000,ROUNDDOWN(INDEX(高額!$B$2:$I$10,MATCH(E16,高額!$A$2:$A$10,1),MIN(MAX(F16,0),7)+1)+(E16-INDEX(高額!$A$2:$A$10,MATCH(E16,高額!$A$2:$A$10,1)))*INDEX(高額!$J$2:$J$10,MATCH(E16,高額!$A$2:$A$10,1)),0),INDEX(月額表!$C$2:$J$233,MATCH(MAX(E16,0),月額表!$A$2:$A$233,1),MIN(MAX(F16,0),7)+1))) | I16: =IF(C16="","",N(G16)+N(H16))
A17: 12月（給与） | E17: =IF(C17="","",C17-N(D17)) | G17: =IF(C17="","",IF(E17>=740000,ROUNDDOWN(INDEX(高額!$B$2:$I$10,MATCH(E17,高額!$A$2:$A$10,1),MIN(MAX(F17,0),7)+1)+(E17-INDEX(高額!$A$2:$A$10,MATCH(E17,高額!$A$2:$A$10,1)))*INDEX(高額!$J$2:$J$10,MATCH(E17,高額!$A$2:$A$10,1)),0),INDEX(月額表!$C$2:$J$233,MATCH(MAX(E17,0),月額表!$A$2:$A$233,1),MIN(MAX(F17,0),7)+1))) | I17: =IF(C17="","",N(G17)+N(H17))
A18: 給与 計 | C18: =SUM(C6:C17) -> 0 | D18: =SUM(D6:D17) -> 0 | E18: =SUM(E6:E17) -> 0 | G18: =SUM(G6:G17) -> 0 | I18: =SUM(I6:I17) -> 0
A20: 区分 | B20: 支給月日 | C20: 総支給金額 | D20: 社会保険料等の控除額 | E20: 社会保険料等控除後の賞与等の金額 | F20: 扶養親族等の数 | G20: 前月の社会保険料等控除後の給与等の金額 | H20: 税率（%） | I20: 算出税額
A21: 賞与1 | E21: =IF(C21="","",C21-N(D21)) | H21: =IF(C21="","",INDEX(賞与率!$A$2:$A$22,MATCH(MAX(N(G21),0),INDEX(賞与率!$B$2:$I$22,0,MIN(MAX(F21,0),7)+1),1))) | I21: =IF(C21="","",ROUNDDOWN(E21*H21/100,0))
A22: 賞与2 | E22: =IF(C22="","",C22-N(D22)) | H22: =IF(C22="","",INDEX(賞与率!$A$2:$A$22,MATCH(MAX(N(G22),0),INDEX(賞与率!$B$2:$I$22,0,MIN(MAX(F22,0),7)+1),1))) | I22: =IF(C22="","",ROUNDDOWN(E22*H22/100,0))
A23: 賞与3 | E23: =IF(C23="","",C23-N(D23)) | H23: =IF(C23="","",INDEX(賞与率!$A$2:$A$22,MATCH(MAX(N(G23),0),INDEX(賞与率!$B$2:$I$22,0,MIN(MAX(F23,0),7)+1),1))) | I23: =IF(C23="","",ROUNDDOWN(E23*H23/100,0))
A24: 賞与 計 | C24: =SUM(C21:C23) -> 0 | D24: =SUM(D21:D23) -> 0 | E24: =SUM(E21:E23) -> 0 | I24: =SUM(I21:I23) -> 0
A25: 前月の給与がない場合や、賞与が前月の給与の10倍を超える場合は、賞与の算出税額を手で入力してください（月額表を使う特例）。
A26: 年末調整
A27: 前職の支払金額
A28: 前職の社会保険料等
A29: 前職の徴収税額
A30: ⑦給与・賞与の総額（前職分を含む） | C30: =N(C18)+N(C24)+N(C27) -> 0 | D30: =IF(C30>20000000,"2,000万円超のため年末調整の対象外","")
A31: ⑧徴収税額の合計 | C31: =N(G18)+N(I24)+N(C29) -> 0
A32: ⑨給与所得控除後の給与等の金額 | C32: =IF(C30<741000,0,IF(C30<2191000,C30-740000,IF(C30<6600000,INDEX(給与所得控除!$C$2:$C$1104,MATCH(C30,給与所得控除!$A$2:$A$1104,1)),IF(C30<8500000,ROUNDDOWN(C30*0.9-1100000,0),C30-1950000)))) -> 0
A33: ⑩所得金額調整控除額 | E33: 所得金額調整控除申告書から
A34: ⑪給与所得控除後の給与等の金額（調整控除後） | C34: =MAX(0,C32-N(C33)) -> 0
A35: ⑫社会保険料等控除額（給与等からの控除分） | C35: =N(D18)+N(D24)+N(C28) -> 0
A36: ⑬社会保険料等控除額（申告による分） | E36: 保険料控除申告書から（国民年金保険料など）
A37: ⑭小規模企業共済等掛金の控除額
A38: ⑮生命保険料の控除額 | E38: 保険料控除申告書の計算結果を転記
A39: ⑯地震保険料の控除額
A40: ⑰配偶者（特別）控除額 | E40: 配偶者控除等申告書の計算結果を転記
A41: ⑱特定親族特別控除額
A42: ⑲扶養控除額及び障害者等の控除額の合計額 | E42: 扶養控除等申告書から計算
...

Sheet 記入例
A1: 令和8年分 給与所得に対する源泉徴収簿（年末調整用） 記入例
A2: 黄色の欄に入力します。算出税額と年末調整の欄は自動で計算されます（甲欄・月額表、令和8年分）。
A3: 氏名 | B3: 記入例 太郎 | E3: 税額表の区分 | F3: 甲
A5: 月区分 | B5: 支給月日 | C5: 総支給金額 | D5: 社会保険料等の控除額 | E5: 社会保険料等控除後の給与等の金額 | F5: 扶養親族等の数 | G5: 算出税額 | H5: 年末調整による過不足税額 | I5: 差引徴収税額
A6: 1月（給与） | C6: 600000 | D6: 92000 | E6: =IF(C6="","",C6-N(D6)) -> 508000 | F6: 6 | G6: =IF(C6="","",IF(E6>=740000,ROUNDDOWN(INDEX(高額!$B$2:$I$10,MATCH(E6,高額!$A$2:$A$10,1),MIN(MAX(F6,0),7)+1)+(E6-INDEX(高額!$A$2:$A$10,MATCH(E6,高額!$A$2:$A$10,1)))*INDEX(高額!$J$2:$J$10,MATCH(E6,高額!$A$2:$A$10,1)),0),INDEX(月額表!$C$2:$J$233,MATCH(MAX(E6,0),月額表!$A$2:$A$233,1),MIN(MAX(F6,0),7)+1))) -> 6690 | I6: =IF(C6="","",N(G6)+N(H6)) -> 6690
A7: 2月（給与） | C7: 600000 | D7: 92000 | E7: =IF(C7="","",C7-N(D7)) -> 508000 | F7: 6 | G7: =IF(C7="","",IF(E7>=740000,ROUNDDOWN(INDEX(高額!$B$2:$I$10,MATCH(E7,高額!$A$2:$A$10,1),MIN(MAX(F7,0),7)+1)+(E7-INDEX(高額!$A$2:$A$10,MATCH(E7,高額!$A$2:$A$10,1)))*INDEX(高額!$J$2:$J$10,MATCH(E7,高額!$A$2:$A$10,1)),0),INDEX(月額表!$C$2:$J$233,MATCH(MAX(E7,0),月額表!$A$2:$A$233,1),MIN(MAX(F7,0),7)+1))) -> 6690 | I7: =IF(C7="","",N(G7)+N(H7)) -> 6690
A8: 3月（給与） | C8: 600000 | D8: 92000 | E8: =IF(C8="","",C8-N(D8)) -> 508000 | F8: 6 | G8: =IF(C8="","",IF(E8>=740000,ROUNDDOWN(INDEX(高額!$B$2:$I$10,MATCH(E8,高額!$A$2:$A$10,1),MIN(MAX(F8,0),7)+1)+(E8-INDEX(高額!$A$2:$A$10,MATCH(E8,高額!$A$2:$A$10,1)))*INDEX(高額!$J$2:$J$10,MATCH(E8,高額!$A$2:$A$10,1)),0),INDEX(月額表!$C$2:$J$233,MATCH(MAX(E8,0),月額表!$A$2:$A$233,1),MIN(MAX(F8,0),7)+1))) -> 6690 | I8: =IF(C8="","",N(G8)+N(H8)) -> 6690
A9: 4月（給与） | C9: 600000 | D9: 92000 | E9: =IF(C9="","",C9-N(D9)) -> 508000 | F9: 6 | G9: =IF(C9="","",IF(E9>=740000,ROUNDDOWN(INDEX(高額!$B$2:$I$10,MATCH(E9,高額!$A$2:$A$10,1),MIN(MAX(F9,0),7)+1)+(E9-INDEX(高額!$A$2:$A$10,MATCH(E9,高額!$A$2:$A$10,1)))*INDEX(高額!$J$2:$J$10,MATCH(E9,高額!$A$2:$A$10,1)),0),INDEX(月額表!$C$2:$J$233,MATCH(MAX(E9,0),月額表!$A$2:$A$233,1),MIN(MAX(F9,0),7)+1))) -> 6690 | I9: =IF(C9="","",N(G9)+N(H9)) -> 6690
A10: 5月（給与） | C10: 600000 | D10: 92000 | E10: =IF(C10="","",C10-N(D10)) -> 508000 | F10: 6 | G10: =IF(C10="","",IF(E10>=740000,ROUNDDOWN(INDEX(高額!$B$2:$I$10,MATCH(E10,高額!$A$2:$A$10,1),MIN(MAX(F10,0),7)+1)+(E10-INDEX(高額!$A$2:$A$10,MATCH(E10,高額!$A$2:$A$10,1)))*INDEX(高額!$J$2:$J$10,MATCH(E10,高額!$A$2:$A$10,1)),0),INDEX(月額表!$C$2:$J$233,MATCH(MAX(E10,0),月額表!$A$2:$A$233,1),MIN(MAX(F10,0),7)+1))) -> 6690 | I10: =IF(C10="","",N(G10)+N(H10)) -> 6690
A11: 6月（給与） | C11: 600000 | D11: 92000 | E11: =IF(C11="","",C11-N(D11)) -> 508000 | F11: 6 | G11: =IF(C11="","",IF(E11>=740000,ROUNDDOWN(INDEX(高額!$B$2:$I$10,MATCH(E11,高額!$A$2:$A$10,1),MIN(MAX(F11,0),7)+1)+(E11-INDEX(高額!$A$2:$A$10,MATCH(E11,高額!$A$2:$A$10,1)))*INDEX(高額!$J$2:$J$10,MATCH(E11,高額!$A$2:$A$10,1)),0),INDEX(月額表!$C$2:$J$233,MATCH(MAX(E11,0),月額表!$A$2:$A$233,1),MIN(MAX(F11,0),7)+1))) -> 6690 | I11: =IF(C11="","",N(G11)+N(H11)) -> 6690
A12: 7月（給与） | C12: 600000 | D12: 92000 | E12: =IF(C12="","",C12-N(D12)) -> 508000 | F12: 6 | G12: =IF(C12="","",IF(E12>=740000,ROUNDDOWN(INDEX(高額!$B$2:$I$10,MATCH(E12,高額!$A$2:$A$10,1),MIN(MAX(F12,0),7)+1)+(E12-INDEX(高額!$A$2:$A$10,MATCH(E12,高額!$A$2:$A$10,1)))*INDEX(高額!$J$2:$J$10,MATCH(E12,高額!$A$2:$A$10,1)),0),INDEX(月額表!$C$2:$J$233,MATCH(MAX(E12,0),月額表!$A$2:$A$233,1),MIN(MAX(F12,0),7)+1))) -> 6690 | I12: =IF(C12="","",N(G12)+N(H12)) -> 6690
A13: 8月（給与） | C13: 600000 | D13: 92000 | E13: =IF(C13="","",C13-N(D13)) -> 508000 | F13: 6 | G13: =IF(C13="","",IF(E13>=740000,ROUNDDOWN(INDEX(高額!$B$2:$I$10,MATCH(E13,高額!$A$2:$A$10,1),MIN(MAX(F13,0),7)+1)+(E13-INDEX(高額!$A$2:$A$10,MATCH(E13,高額!$A$2:$A$10,1)))*INDEX(高額!$J$2:$J$10,MATCH(E13,高額!$A$2:$A$10,1)),0),INDEX(月額表!$C$2:$J$233,MATCH(MAX(E13,0),月額表!$A$2:$A$233,1),MIN(MAX(F13,0),7)+1))) -> 6690 | I13: =IF(C13="","",N(G13)+N(H13)) -> 6690
A14: 9月（給与） | C14: 600000 | D14: 92000 | E14: =IF(C14="","",C14-N(D14)) -> 508000 | F14: 6 | G14: =IF(C14="","",IF(E14>=740000,ROUNDDOWN(INDEX(高額!$B$2:$I$10,MATCH(E14,高額!$A$2:$A$10,1),MIN(MAX(F14,0),7)+1)+(E14-INDEX(高額!$A$2:$A$10,MATCH(E14,高額!$A$2:$A$10,1)))*INDEX(高額!$J$2:$J$10,MATCH(E14,高額!$A$2:$A$10,1)),0),INDEX(月額表!$C$2:$J$233,MATCH(MAX(E14,0),月額表!$A$2:$A$233,1),MIN(MAX(F14,0),7)+1))) -> 6690 | I14: =IF(C14="","",N(G14)+N(H14)) -> 6690
A15: 10月（給与） | C15: 600000 | D15: 92000 | E15: =IF(C15="","",C15-N(D15)) -> 508000 | F15: 6 | G15: =IF(C15="","",IF(E15>=740000,ROUNDDOWN(INDEX(高額!$B$2:$I$10,MATCH(E15,高額!$A$2:$A$10,1),MIN(MAX(F15,0),7)+1)+(E15-INDEX(高額!$A$2:$A$10,MATCH(E15,高額!$A$2:$A$10,1)))*INDEX(高額!$J$2:$J$10,MATCH(E15,高額!$A$2:$A$10,1)),0),INDEX(月額表!$C$2:$J$233,MATCH(MAX(E15,0),月額表!$A$2:$A$233,1),MIN(MAX(F15,0),7)+1))) -> 6690 | I15: =IF(C15="","",N(G15)+N(H15)) -> 6690
A16: 11月（給与） | C16: 600000 | D16: 92000 | E16: =IF(C16="","",C16-N(D16)) -> 508000 | F16: 6 | G16: =IF(C16="","",IF(E16>=740000,ROUNDDOWN(INDEX(高額!$B$2:$I$10,MATCH(E16,高額!$A$2:$A$10,1),MIN(MAX(F16,0),7)+1)+(E16-INDEX(高額!$A$2:$A$10,MATCH(E16,高額!$A$2:$A$10,1)))*INDEX(高額!$J$2:$J$10,MATCH(E16,高額!$A$2:$A$10,1)),0),INDEX(月額表!$C$2:$J$233,MATCH(MAX(E16,0),月額表!$A$2:$A$233,1),MIN(MAX(F16,0),7)+1))) -> 6690 | I16: =IF(C16="","",N(G16)+N(H16)) -> 6690
A17: 12月（給与） | C17: 600000 | D17: 92000 | E17: =IF(C17="","",C17-N(D17)) -> 508000 | F17: 6 | G17: =IF(C17="","",IF(E17>=740000,ROUNDDOWN(INDEX(高額!$B$2:$I$10,MATCH(E17,高額!$A$2:$A$10,1),MIN(MAX(F17,0),7)+1)+(E17-INDEX(高額!$A$2:$A$10,MATCH(E17,高額!$A$2:$A$10,1)))*INDEX(高額!$J$2:$J$10,MATCH(E17,高額!$A$2:$A$10,1)),0),INDEX(月額表!$C$2:$J$233,MATCH(MAX(E17,0),月額表!$A$2:$A$233,1),MIN(MAX(F17,0),7)+1))) -> 6690 | I17: =IF(C17="","",N(G17)+N(H17)) -> 6690
A18: 給与 計 | C18: =SUM(C6:C17) -> 7200000 | D18: =SUM(D6:D17) -> 1104000 | E18: =SUM(E6:E17) -> 6096000 | G18: =SUM(G6:G17) -> 80280 | I18: =SUM(I6:I17) -> 80280
A20: 区分 | B20: 支給月日 | C20: 総支給金額 | D20: 社会保険料等の控除額 | E20: 社会保険料等控除後の賞与等の金額 | F20: 扶養親族等の数 | G20: 前月の社会保険料等控除後の給与等の金額 | H20: 税率（%） | I20: 算出税額
A21: 賞与1 | C21: 885000 | D21: 141051 | E21: =IF(C21="","",C21-N(D21)) -> 743949 | F21: 6 | G21: 508000 | H21: =IF(C21="","",INDEX(賞与率!$A$2:$A$22,MATCH(MAX(N(G21),0),INDEX(賞与率!$B$2:$I$22,0,MIN(MAX(F21,0),7)+1),1))) -> 10.21 | I21: =IF(C21="","",ROUNDDOWN(E21*H21/100,0)) -> 75957
A22: 賞与2 | C22: 885000 | D22: 141051 | E22: =IF(C22="","",C22-N(D22)) -> 743949 | F22: 6 | G22: 508000 | H22: =IF(C22="","",INDEX(賞与率!$A$2:$A$22,MATCH(MAX(N(G22),0),INDEX(賞与率!$B$2:$I$22,0,MIN(MAX(F22,0),7)+1),1))) -> 10.21 | I22: =IF(C22="","",ROUNDDOWN(E22*H22/100,0)) -> 75957
A23: 賞与3 | E23: =IF(C23="","",C23-N(D23)) | F23: 6 | H23: =IF(C23="","",INDEX(賞与率!$A$2:$A$22,MATCH(MAX(N(G23),0),INDEX(賞与率!$B$2:$I$22,0,MIN(MAX(F23,0),7)+1),1))) | I23: =IF(C23="","",ROUNDDOWN(E23*H23/100,0))
A24: 賞与 計 | C24: =SUM(C21:C23) -> 1770000 | D24: =SUM(D21:D23) -> 282102 | E24: =SUM(E21:E23) -> 1487898 | I24: =SUM(I21:I23) -> 151914
A25: 前月の給与がない場合や、賞与が前月の給与の10倍を超える場合は、賞与の算出税額を手で入力してください（月額表を使う特例）。
A26: 年末調整
A27: 前職の支払金額
A28: 前職の社会保険料等
A29: 前職の徴収税額
A30: ⑦給与・賞与の総額（前職分を含む） | C30: =N(C18)+N(C24)+N(C27) -> 8970000 | D30: =IF(C30>20000000,"2,000万円超のため年末調整の対象外","")
A31: ⑧徴収税額の合計 | C31: =N(G18)+N(I24)+N(C29) -> 232194
A32: ⑨給与所得控除後の給与等の金額 | C32: =IF(C30<741000,0,IF(C30<2191000,C30-740000,IF(C30<6600000,INDEX(給与所得控除!$C$2:$C$1104,MATCH(C30,給与所得控除!$A$2:$A$1104,1)),IF(C30<8500000,ROUNDDOWN(C30*0.9-1100000,0),C30-1950000)))) -> 7020000
A33: ⑩所得金額調整控除額 | C33: 47000 | E33: 所得金額調整控除申告書から
A34: ⑪給与所得控除後の給与等の金額（調整控除後） | C34: =MAX(0,C32-N(C33)) -> 6973000
A35: ⑫社会保険料等控除額（給与等からの控除分） | C35: =N(D18)+N(D24)+N(C28) -> 1386102
A36: ⑬社会保険料等控除額（申告による分） | E36: 保険料控除申告書から（国民年金保険料など）
A37: ⑭小規模企業共済等掛金の控除額
A38: ⑮生命保険料の控除額 | C38: 120000 | E38: 保険料控除申告書の計算結果を転記
A39: ⑯地震保険料の控除額 | C39: 50000
A40: ⑰配偶者（特別）控除額 | C40: 380000 | E40: 配偶者控除等申告書の計算結果を転記
A41: ⑱特定親族特別控除額 | C41: 410000
A42: ⑲扶養控除額及び障害者等の控除額の合計額 | C42: 1860000 | E42: 扶養控除等申告書から計算
...

Sheet 月額表
A1: 以上 | B1: 未満 | C1: 扶養0 | D1: 扶養1 | E1: 扶養2 | F1: 扶養3 | G1: 扶養4 | H1: 扶養5 | I1: 扶養6 | J1: 扶養7
A2: 0 | B2: 105000 | C2: 0 | D2: 0 | E2: 0 | F2: 0 | G2: 0 | H2: 0 | I2: 0 | J2: 0
A3: 105000 | B3: 107000 | C3: 170 | D3: 0 | E3: 0 | F3: 0 | G3: 0 | H3: 0 | I3: 0 | J3: 0
A4: 107000 | B4: 109000 | C4: 280 | D4: 0 | E4: 0 | F4: 0 | G4: 0 | H4: 0 | I4: 0 | J4: 0
A5: 109000 | B5: 111000 | C5: 380 | D5: 0 | E5: 0 | F5: 0 | G5: 0 | H5: 0 | I5: 0 | J5: 0
A6: 111000 | B6: 113000 | C6: 480 | D6: 0 | E6: 0 | F6: 0 | G6: 0 | H6: 0 | I6: 0 | J6: 0
A7: 113000 | B7: 115000 | C7: 580 | D7: 0 | E7: 0 | F7: 0 | G7: 0 | H7: 0 | I7: 0 | J7: 0
A8: 115000 | B8: 117000 | C8: 680 | D8: 0 | E8: 0 | F8: 0 | G8: 0 | H8: 0 | I8: 0 | J8: 0
A9: 117000 | B9: 119000 | C9: 790 | D9: 0 | E9: 0 | F9: 0 | G9: 0 | H9: 0 | I9: 0 | J9: 0
A10: 119000 | B10: 121000 | C10: 890 | D10: 0 | E10: 0 | F10: 0 | G10: 0 | H10: 0 | I10: 0 | J10: 0
A11: 121000 | B11: 123000 | C11: 990 | D11: 0 | E11: 0 | F11: 0 | G11: 0 | H11: 0 | I11: 0 | J11: 0
A12: 123000 | B12: 125000 | C12: 1090 | D12: 0 | E12: 0 | F12: 0 | G12: 0 | H12: 0 | I12: 0 | J12: 0
A13: 125000 | B13: 127000 | C13: 1190 | D13: 0 | E13: 0 | F13: 0 | G13: 0 | H13: 0 | I13: 0 | J13: 0
... A233: 737000 | B233: 740000 | C233: 71380 | D233: 64900 | E233: 58440 | F233: 51980 | G233: 45510 | H233: 39040 | I233: 32580 | J233: 26110

Sheet 高額
A1: 以上 | B1: 扶養0 | C1: 扶養1 | D1: 扶養2 | E1: 扶養3 | F1: 扶養4 | G1: 扶養5 | H1: 扶養6 | I1: 扶養7 | J1: 超える部分の率
A2: 740000 | B2: 71680 | C2: 65210 | D2: 58750 | E2: 52290 | F2: 45810 | G2: 39350 | H2: 32890 | I2: 26410 | J2: 0.2042
A3: 790000 | B3: 81890 | C3: 75420 | D3: 68960 | E3: 62500 | F3: 56020 | G3: 49560 | H3: 43100 | I3: 36620 | J3: 0.23483
A4: 960000 | B4: 121820 | C4: 115340 | D4: 108880 | E4: 102420 | F4: 95940 | G4: 89480 | H4: 83020 | I4: 76540 | J4: 0.33693
A5: 1710000 | B5: 374520 | C5: 368040 | D5: 361580 | E5: 355120 | F5: 348640 | G5: 342180 | H5: 335720 | I5: 329240 | J5: 0.4084
A6: 2130000 | B6: 549440 | C6: 542970 | D6: 536500 | E6: 530040 | F6: 523570 | G6: 517110 | H6: 510640 | I6: 504170 | J6: 0.4084
A7: 2170000 | B7: 571220 | C7: 564750 | D7: 558280 | E7: 551820 | F7: 545350 | G7: 538880 | H7: 532420 | I7: 525950 | J7: 0.4084
A8: 2210000 | B8: 593000 | C8: 586520 | D8: 580060 | E8: 573600 | F8: 567120 | G8: 560660 | H8: 554200 | I8: 547730 | J8: 0.4084
A9: 2250000 | B9: 614770 | C9: 608300 | D9: 601840 | E9: 595380 | F9: 588900 | G9: 582440 | H9: 575980 | I9: 569500 | J9: 0.4084
A10: 3500000 | B10: 1125270 | C10: 1118800 | D10: 1112340 | E10: 1105880 | F10: 1099400 | G10: 1092940 | H10: 1086480 | I10: 1080000 | J10: 0.45945

Sheet 賞与率
A1: 率(%) | B1: 扶養0以上 | C1: 扶養1以上 | D1: 扶養2以上 | E1: 扶養3以上 | F1: 扶養4以上 | G1: 扶養5以上 | H1: 扶養6以上 | I1: 扶養7以上
A2: 0 | B2: 0 | C2: 0 | D2: 0 | E2: 0 | F2: 0 | G2: 0 | H2: 0 | I2: 0
A3: 2.042 | B3: 82000 | C3: 107000 | D3: 143000 | E3: 181000 | F3: 218000 | G3: 251000 | H3: 284000 | I3: 317000
A4: 4.084 | B4: 94000 | C4: 250000 | D4: 276000 | E4: 300000 | F4: 300000 | G4: 304000 | H4: 343000 | I4: 383000
A5: 6.126 | B5: 260000 | C5: 289000 | D5: 321000 | E5: 354000 | F5: 387000 | G5: 412000 | H5: 438000 | I5: 463000
A6: 8.168 | B6: 309000 | C6: 346000 | D6: 377000 | E6: 405000 | F6: 431000 | G6: 457000 | H6: 483000 | I6: 508000
A7: 10.21 | B7: 342000 | C7: 373000 | D7: 400000 | E7: 424000 | F7: 452000 | G7: 479000 | H7: 505000 | I7: 529000
A8: 12.252 | B8: 372000 | C8: 401000 | D8: 426000 | E8: 452000 | F8: 477000 | G8: 503000 | H8: 527000 | I8: 552000
A9: 14.294 | B9: 402000 | C9: 430000 | D9: 457000 | E9: 484000 | F9: 509000 | G9: 531000 | H9: 553000 | I9: 578000
A10: 16.336 | B10: 433000 | C10: 463000 | D10: 492000 | E10: 517000 | F10: 540000 | G10: 564000 | H10: 589000 | I10: 614000
A11: 18.378 | B11: 520000 | C11: 520000 | D11: 525000 | E11: 550000 | F11: 577000 | G11: 604000 | H11: 630000 | I11: 657000
A12: 20.42 | B12: 605000 | C12: 621000 | D12: 636000 | E12: 651000 | F12: 666000 | G12: 681000 | H12: 697000 | I12: 708000
A13: 22.462 | B13: 684000 | C13: 705000 | D13: 728000 | E13: 751000 | F13: 774000 | G13: 798000 | H13: 821000 | I13: 845000
... A22: 45.945 | B22: 3495000 | C22: 3527000 | D22: 3559000 | E22: 3590000 | F22: 3622000 | G22: 3654000 | H22: 3685000 | I22: 3717000

Sheet 給与所得控除
A1: 以上 | B1: 未満 | C1: 給与所得控除後の金額
A2: 2191000 | B2: 2193000 | C2: 1451000
A3: 2193000 | B3: 2196000 | C3: 1453000
A4: 2196000 | B4: 2200000 | C4: 1456000
A5: 2200000 | B5: 2204000 | C5: 1460000
A6: 2204000 | B6: 2208000 | C6: 1462800
A7: 2208000 | B7: 2212000 | C7: 1465600
A8: 2212000 | B8: 2216000 | C8: 1468400
A9: 2216000 | B9: 2220000 | C9: 1471200
A10: 2220000 | B10: 2224000 | C10: 1474000
A11: 2224000 | B11: 2228000 | C11: 1476800
A12: 2228000 | B12: 2232000 | C12: 1479600
A13: 2232000 | B13: 2236000 | C13: 1482400
... A1104: 6596000 | B1104: 6600000 | C1104: 4836800

Sheet 速算表
A1: 課税給与所得（以上） | B1: 税率 | C1: 控除額 | E1: 合計所得（以上） | F1: 基礎控除
A2: 0 | B2: 0.05 | C2: 0 | E2: 0 | F2: 1040000
A3: 1950001 | B3: 0.1 | C3: 97500 | E3: 4890001 | F3: 670000
A4: 3300001 | B4: 0.2 | C4: 427500 | E4: 6550001 | F4: 620000
A5: 6950001 | B5: 0.23 | C5: 636000 | E5: 23500001 | F5: 480000
A6: 9000001 | B6: 0.33 | C6: 1536000 | E6: 24000001 | F6: 320000
A7: 18000001 | B7: 0.4 | C7: 2796000 | E7: 24500001 | F7: 160000
E8: 25000001 | F8: 0
